BEGIN:VCALENDAR
VERSION:2.0
PRODID:DPCALENDAR
CALSCALE:GREGORIAN
BEGIN:VTIMEZONE
TZID:Europe/Zurich
BEGIN:STANDARD
DTSTART:20251026T010000
TZOFFSETFROM:+0200
TZOFFSETTO:+0100
TZNAME:CET
END:STANDARD
BEGIN:STANDARD
DTSTART:20261025T010000
TZOFFSETFROM:+0200
TZOFFSETTO:+0100
TZNAME:CET
END:STANDARD
BEGIN:DAYLIGHT
DTSTART:20260329T010000
TZOFFSETFROM:+0100
TZOFFSETTO:+0200
TZNAME:CEST
END:DAYLIGHT
END:VTIMEZONE
X-WR-TIMEZONE:Europe/Zurich
BEGIN:VEVENT
DTSTART;TZID=Europe/Zurich:20260419T100000
DTEND;TZID=Europe/Zurich:20260419T111500
UID:j0179dautfh7bqd0sfgdirta@backend.feg-uzwil.ch
SUMMARY:Gottesdienst
CREATED:20260419T131354Z
DTSTAMP:20260419T131354Z
URL:https://www.feguzwil.ch/index.php/component/dpcalendar/event/i-1-j0179dautfh7bqd0sfgdirta_202604190800?calid=i-1
DESCRIPTION:Offene Augen für den lebendigen Gott. Eph 1,15-17. Predigt durch David Weibel.ZusatzinfosHüeti. Höckli. Kidstreff
X-ALT-DESC;FMTTYPE=text/html:Offene Augen für den lebendigen Gott. Eph 1,15-17. Predigt durch David Weibel.<br><br><h3>Zusatzinfos</h3>Hüeti. Höckli. Kidstreff<br><br>
LAST-MODIFIED:20260418T151150Z
SEQUENCE:-79324
X-ACCESS:1
X-HITS:0
X-COLOR:a32929
X-SHOW-END-TIME:1
END:VEVENT
END:VCALENDAR