BEGIN:VCALENDAR
VERSION:2.0
PRODID:DPCALENDAR
CALSCALE:GREGORIAN
BEGIN:VTIMEZONE
TZID:Europe/Zurich
BEGIN:STANDARD
DTSTART:20251026T010000
TZOFFSETFROM:+0200
TZOFFSETTO:+0100
TZNAME:CET
END:STANDARD
BEGIN:STANDARD
DTSTART:20261025T010000
TZOFFSETFROM:+0200
TZOFFSETTO:+0100
TZNAME:CET
END:STANDARD
BEGIN:DAYLIGHT
DTSTART:20260329T010000
TZOFFSETFROM:+0100
TZOFFSETTO:+0200
TZNAME:CEST
END:DAYLIGHT
END:VTIMEZONE
X-WR-TIMEZONE:Europe/Zurich
BEGIN:VEVENT
DTSTART;TZID=Europe/Zurich:20260425T093000
DTEND;TZID=Europe/Zurich:20260425T110000
UID:pk7a5wzotg2vih32fyc1tfte@backend.feg-uzwil.ch
SUMMARY:iKafi
CREATED:20260419T131257Z
DTSTAMP:20260419T131257Z
URL:http://www.feg-uzwil.ch/index.php/aktuell/informationen/item/ikafi
DESCRIPTION:Wir stellen dir die FEG Uzwil vor.Anmeldungen bis am 21. April über www.feg-uzwil.ch oder bei Martin Früh. . 
X-ALT-DESC;FMTTYPE=text/html:<p>Wir stellen dir die FEG Uzwil vor.</p><p>Anmeldungen bis am 21. April über www.feg-uzwil.ch oder bei Martin Früh.</p> . <br><br>
LAST-MODIFIED:20260213T211252Z
SEQUENCE:-5587205
LOCATION:
GEO:0.00000000;0.00000000
X-LOCATION-DISPLAYNAME:FEG Uzwil
X-ACCESS:1
X-HITS:0
X-COLOR:a32929
X-SHOW-END-TIME:1
END:VEVENT
END:VCALENDAR