BEGIN:VCALENDAR
VERSION:2.0
PRODID:DPCALENDAR
CALSCALE:GREGORIAN
BEGIN:VTIMEZONE
TZID:Europe/Zurich
BEGIN:STANDARD
DTSTART:20251026T010000
TZOFFSETFROM:+0200
TZOFFSETTO:+0100
TZNAME:CET
END:STANDARD
BEGIN:STANDARD
DTSTART:20261025T010000
TZOFFSETFROM:+0200
TZOFFSETTO:+0100
TZNAME:CET
END:STANDARD
BEGIN:DAYLIGHT
DTSTART:20260329T010000
TZOFFSETFROM:+0100
TZOFFSETTO:+0200
TZNAME:CEST
END:DAYLIGHT
END:VTIMEZONE
X-WR-TIMEZONE:Europe/Zurich
BEGIN:VEVENT
DTSTART;TZID=Europe/Zurich:20260423T200000
DTEND;TZID=Europe/Zurich:20260423T211500
UID:thku1ni0qmspf8ig2dn6bjnt@backend.feg-uzwil.ch
SUMMARY:Gebetsabend
CREATED:20260419T130758Z
DTSTAMP:20260419T130758Z
URL:https://www.feguzwil.ch/index.php/component/dpcalendar/event/i-1-thku1ni0qmspf8ig2dn6bjnt_202604231800?calid=i-1
DESCRIPTION:Zusatzinfosmit Abendmahl
X-ALT-DESC;FMTTYPE=text/html:<h3>Zusatzinfos</h3>mit Abendmahl<br><br>
LAST-MODIFIED:20260413T092451Z
SEQUENCE:-531787
X-ACCESS:1
X-HITS:0
X-COLOR:a32929
X-SHOW-END-TIME:1
END:VEVENT
END:VCALENDAR