BEGIN:VCALENDAR
VERSION:2.0
PRODID:DPCALENDAR
CALSCALE:GREGORIAN
BEGIN:VTIMEZONE
TZID:Europe/Zurich
BEGIN:STANDARD
DTSTART:20251026T010000
TZOFFSETFROM:+0200
TZOFFSETTO:+0100
TZNAME:CET
END:STANDARD
BEGIN:STANDARD
DTSTART:20261025T010000
TZOFFSETFROM:+0200
TZOFFSETTO:+0100
TZNAME:CET
END:STANDARD
BEGIN:DAYLIGHT
DTSTART:20260329T010000
TZOFFSETFROM:+0100
TZOFFSETTO:+0200
TZNAME:CEST
END:DAYLIGHT
END:VTIMEZONE
X-WR-TIMEZONE:Europe/Zurich
BEGIN:VEVENT
DTSTART;TZID=Europe/Zurich:20260522T200000
DTEND;TZID=Europe/Zurich:20260522T230000
UID:ta5a16fj5qqshhocu45fjeqq@backend.feg-uzwil.ch
SUMMARY:Jugendtreff
CREATED:20260419T164918Z
DTSTAMP:20260419T164918Z
URL:https://www.feguzwil.ch/index.php/component/dpcalendar/event/i-4-ta5a16fj5qqshhocu45fjeqq_202605221800?calid=i-4
LAST-MODIFIED:20260212T125754Z
SEQUENCE:-5716284
X-ACCESS:1
X-HITS:0
X-COLOR:fadf32
X-SHOW-END-TIME:1
END:VEVENT
END:VCALENDAR