BEGIN:VCALENDAR
VERSION:2.0
PRODID:DPCALENDAR
CALSCALE:GREGORIAN
BEGIN:VTIMEZONE
TZID:Europe/Zurich
BEGIN:STANDARD
DTSTART:20251026T010000
TZOFFSETFROM:+0200
TZOFFSETTO:+0100
TZNAME:CET
END:STANDARD
BEGIN:STANDARD
DTSTART:20261025T010000
TZOFFSETFROM:+0200
TZOFFSETTO:+0100
TZNAME:CET
END:STANDARD
BEGIN:DAYLIGHT
DTSTART:20260329T010000
TZOFFSETFROM:+0100
TZOFFSETTO:+0200
TZNAME:CEST
END:DAYLIGHT
END:VTIMEZONE
X-WR-TIMEZONE:Europe/Zurich
BEGIN:VEVENT
DTSTART;TZID=Europe/Zurich:20260512T140000
DTEND;TZID=Europe/Zurich:20260512T163000
UID:xs4reab16npr7o8n76q736go@backend.feg-uzwil.ch
SUMMARY:Seniorentreff
CREATED:20260419T165125Z
DTSTAMP:20260419T165125Z
URL:https://www.feguzwil.ch/index.php/component/dpcalendar/event/i-5-xs4reab16npr7o8n76q736go_202605121200?calid=i-5
DESCRIPTION:mit Kazimierz KoniecznyBibelgespräch. 
X-ALT-DESC;FMTTYPE=text/html:<p>mit Kazimierz Konieczny</p>Bibelgespräch. <br><br>
LAST-MODIFIED:20260212T125707Z
SEQUENCE:-5716458
X-ACCESS:1
X-HITS:0
X-COLOR:39a329
X-SHOW-END-TIME:1
END:VEVENT
END:VCALENDAR